BEGIN:VCALENDAR
VERSION:2.0
PRODID:-//Centro Cristiano Latinoamericano de Montreal - ECPv6.7.1//NONSGML v1.0//EN
CALSCALE:GREGORIAN
METHOD:PUBLISH
X-ORIGINAL-URL:https://centrocristianolatinoamericano.org
X-WR-CALDESC:Events for Centro Cristiano Latinoamericano de Montreal
REFRESH-INTERVAL;VALUE=DURATION:PT1H
X-Robots-Tag:noindex
X-PUBLISHED-TTL:PT1H
BEGIN:VTIMEZONE
TZID:America/Toronto
BEGIN:DAYLIGHT
TZOFFSETFROM:-0500
TZOFFSETTO:-0400
TZNAME:EDT
DTSTART:20250309T070000
END:DAYLIGHT
BEGIN:STANDARD
TZOFFSETFROM:-0400
TZOFFSETTO:-0500
TZNAME:EST
DTSTART:20251102T060000
END:STANDARD
END:VTIMEZONE
BEGIN:VEVENT
DTSTART;TZID=America/Toronto:20250829T120000
DTEND;TZID=America/Toronto:20250831T120000
DTSTAMP:20260424T040402
CREATED:20250817T142022Z
LAST-MODIFIED:20250817T143318Z
UID:612-1756468800-1756641600@centrocristianolatinoamericano.org
SUMMARY:Retiro 2025 - Levantando un templo para Dios
DESCRIPTION:Ven y se parte del campamento “Levantando un templo para Dios.” \nQue incluye: \n\nAlojamiento 2 noches.\nTodas las comidas el sábado\, desayuno y almuerzo el domingo. (La cena del viernes 29 no está incluida. Los participantes deben llevar su comida.)\n2 Conferencias.\nTiempos de alabanza y adoración.\nActividades variadas de grupo.\n\nEl campamento tiene un costo de 170$ por persona.
URL:https://centrocristianolatinoamericano.org/event/campamento-2025-levantando-un-templo-para-dios/
LOCATION:Camp Bruchési\, 50 365e Avenue\, Saint-Hippolyte\, QC\, J8A 2Y6\, Canada
CATEGORIES:Campamentos
ATTACH;FMTTYPE=image/jpeg:https://centrocristianolatinoamericano.org/wp-content/uploads/2025/08/WhatsApp-Image-2025-08-10-at-4.00.10-PM.jpeg
END:VEVENT
END:VCALENDAR