BEGIN:VCALENDAR
VERSION:2.0
PRODID:-//Centro Cristiano Latinoamericano de Montreal - ECPv6.7.1//NONSGML v1.0//EN
CALSCALE:GREGORIAN
METHOD:PUBLISH
X-ORIGINAL-URL:https://centrocristianolatinoamericano.org
X-WR-CALDESC:Events for Centro Cristiano Latinoamericano de Montreal
REFRESH-INTERVAL;VALUE=DURATION:PT1H
X-Robots-Tag:noindex
X-PUBLISHED-TTL:PT1H
BEGIN:VTIMEZONE
TZID:America/Toronto
BEGIN:DAYLIGHT
TZOFFSETFROM:-0500
TZOFFSETTO:-0400
TZNAME:EDT
DTSTART:20240310T070000
END:DAYLIGHT
BEGIN:STANDARD
TZOFFSETFROM:-0400
TZOFFSETTO:-0500
TZNAME:EST
DTSTART:20241103T060000
END:STANDARD
END:VTIMEZONE
BEGIN:VEVENT
DTSTART;TZID=America/Toronto:20240203T100000
DTEND;TZID=America/Toronto:20240203T120000
DTSTAMP:20260424T102204
CREATED:20240114T195728Z
LAST-MODIFIED:20240114T201448Z
UID:436-1706954400-1706961600@centrocristianolatinoamericano.org
SUMMARY:Conociendo mis dones.
DESCRIPTION:Ven y acompáñanos en la primera reunion del grupo de mujeres del 2024. \nConociendo mis dones es una invitación a seguir conociendo sobre el plan perfecto de Dios para nuestras vidas. Te ayudará a encontrar propósito\, a descubrir el don dado por Dios y cómo usarlo para el beneficio de su obra. \nNo te pierdas esta gran oportunidad.
URL:https://centrocristianolatinoamericano.org/event/conociendo-mis-dones/
LOCATION:Iglesia Centro Cristiano Latinoamericano\, 5060 Sir George Simpson St\, Lachine\, Quebec\, H8T 1E7\, Canada
CATEGORIES:Grupo de Mujeres
ATTACH;FMTTYPE=image/png:https://centrocristianolatinoamericano.org/wp-content/uploads/2024/01/Conociendo-mis-dones-3-Conociendo-mis-dones-web-sq.png
END:VEVENT
END:VCALENDAR